BEGIN:VCALENDAR
VERSION:2.0
PRODID:https://github.com/derhansen/sf_event_mgt
METHOD:PUBLISH
BEGIN:VEVENT
UID:127-1110@www.ghst.de
CLASS: PUBLIC
SUMMARY:Jugend entscheidet Digital Talk: (Gem)Einsam in der Kommune
DESCRIPTION:Studien zeigen, dass Einsamkeit besonders bei jungen Menschen z
 unimmt. Die Ursachen dafür scheinen vielfältig, ob die Corona-Pandemie, der
  Aufschwung der Sozialen Medien oder strukturelle Faktoren. Fakt ist, Einsa
 mkeit hat auch Auswirkungen auf das (demokratische) Miteinander. \n\nKommun
 en können dabei ein entscheidender und aktiver Akteur sein. Die Handlungsem
 pfehlung lautet: Dritte Orte schaffen, die niedrigschwellig und im besten F
 all kostenfrei Begegnungen und Bewegung ermöglichen. \n\nIn unserem Digital
  Talk am Mittwoch, den 22. April 2026 von 12:00-13:00 Uhr sprechen wir über
  Einsamkeit bei jungen Menschen in Kommunen. Zu Gast ist unter anderem Dr. 
 Martin Gibson-Kunze vom Kompetenznetz Einsamkeit. Er erklärt uns, was Einsa
 mkeit ist und was nicht, welche Folgen es hat und was sich hinter einem Ein
 samkeitsbarometer verbirgt.\n\nAußerdem lernen wir das Projekt “Fit und ver
 bunden – Sport gegen Jugendeinsamkeit” im Lahn-Dill-Kreis kennen. \n\nAlle 
 Interessierten sind herzlich willkommen. Melden Sie sich einfach kostenlos 
 an – die Zugangsdaten bekommen Sie im Anschluss übermittelt.\n\nAnmeldung
LOCATION:Online-Veranstaltung
DTSTAMP;TZID="/Europe/Berlin":20260407T142514
DTSTART;TZID="/Europe/Berlin":20260422T100000
DTEND;TZID="/Europe/Berlin":20260422T110000
END:VEVENT
END:VCALENDAR
