BEGIN:VCALENDAR
VERSION:2.0
PRODID:https://github.com/derhansen/sf_event_mgt
METHOD:PUBLISH
BEGIN:VEVENT
UID:119-1110@www.ghst.de
CLASS: PUBLIC
SUMMARY:wir lachen das - Kongress für politische Kultur
DESCRIPTION:Politik braucht Humor! Gerade weil die Lage ernst ist: Die Demo
 kratie steht vor großen Herausforderungen. Polarisierung und autoritäre Ten
 denzen nehmen zu, und das Vertrauen in Politiker und Politikerinnen hat in 
 den vergangenen Jahren extrem gelitten. \n\nIn dieser Lage braucht es neue 
 Zugänge zu Politik – solche, die Menschen nicht abschrecken, sondern einlad
 en. Humor und Freude am politischen Tun sind keine Nebensächlichkeiten, son
 dern demokratische Werkzeuge: Sie schaffen Nähe, bauen Spannungen ab, förde
 rn Kreativität und Dialog und machen politische Teilhabe attraktiver.\n\nWi
 e kann Lachen in der Kommunalpolitik Türen öffnen? Wie könnten Parteien meh
 r Spaß machen? Ist Ironie das richtige Mittel gegen populistische Hetze? Wo
  stößt Humor in der politisch-medialen Kommunikation an Grenzen?  #WirLache
 nDas\n\nÜber diese Fragen wollen wir diskutieren, mit Gästen aus Politik, C
 omedy, Medien und Gehirnforschung. Ernsthaft, kontrovers, mit Freude am The
 ma und der passenden Dosis Humor. \n\n  +++ Wir sind aktuell leider ausgebu
 cht! Sie können sich trotzdem gerne registrieren, so können wir Sie kontakt
 ieren, sobald ein Platz frei wird. +++\n\nZur Warteliste \n\nPresseakkredit
 ierungen bitte direkt an ihmelsj@ghst.de 
LOCATION:Berlin-Brandenburgische Akademie der Wissenschaften
DTSTAMP;TZID="/Europe/Berlin":20260413T073537
DTSTART;TZID="/Europe/Berlin":20260421T070000
DTEND;TZID="/Europe/Berlin":20260421T180000
END:VEVENT
END:VCALENDAR
